BEGIN:VCALENDAR
VERSION:2.0
PRODID:-//AAF Atlanta - ECPv5.16.2.1//NONSGML v1.0//EN
CALSCALE:GREGORIAN
METHOD:PUBLISH
X-WR-CALNAME:AAF Atlanta
X-ORIGINAL-URL:https://atlantaadclub.org
X-WR-CALDESC:Events for AAF Atlanta
BEGIN:VTIMEZONE
TZID:UTC
BEGIN:STANDARD
TZOFFSETFROM:+0000
TZOFFSETTO:+0000
TZNAME:UTC
DTSTART:20190101T000000
END:STANDARD
END:VTIMEZONE
BEGIN:VEVENT
DTSTART;TZID=UTC:20191211T180000
DTEND;TZID=UTC:20200115T210000
DTSTAMP:20260424T204909
CREATED:20191104T194402Z
LAST-MODIFIED:20230814T030857Z
UID:852-1576087200-1579122000@atlantaadclub.org
SUMMARY:2019 Holiday Mixer
DESCRIPTION:Join us for eats\, drinks and merry surprises at our annual holiday party hosted by Dagger. Be there or… well just be there. It’s one of our favorite parties of the year! REGISTER HERE. \nComplimentary food & drinks will be served. \nSpecial thanks to our host: \n \nSpecial thanks to our sponsor: \n \n 
URL:https://atlantaadclub.org/event/2019-holiday-mixer/
LOCATION:Dagger\,  746 Willoughby Way NE\, #100\, Atlanta\, 30312\, United States
ATTACH;FMTTYPE=image/jpeg:https://atlantaadclub.org/wp-content/uploads/2020/01/HolidayMixerAAC.jpg
END:VEVENT
END:VCALENDAR