BEGIN:VCALENDAR
VERSION:2.0
PRODID:-//AAF Atlanta - ECPv5.16.2.1//NONSGML v1.0//EN
CALSCALE:GREGORIAN
METHOD:PUBLISH
X-WR-CALNAME:AAF Atlanta
X-ORIGINAL-URL:https://atlantaadclub.org
X-WR-CALDESC:Events for AAF Atlanta
BEGIN:VTIMEZONE
TZID:UTC
BEGIN:STANDARD
TZOFFSETFROM:+0000
TZOFFSETTO:+0000
TZNAME:UTC
DTSTART:20250101T000000
END:STANDARD
END:VTIMEZONE
BEGIN:VEVENT
DTSTART;VALUE=DATE:20250226
DTEND;VALUE=DATE:20250227
DTSTAMP:20260420T110213
CREATED:20250107T235327Z
LAST-MODIFIED:20250108T000240Z
UID:3408-1740528000-1740614399@atlantaadclub.org
SUMMARY:2024 American Advertising Awards Atlanta
DESCRIPTION:Ticket Sales Open Soon \nThe American Advertising Awards – Atlanta are the industry’s largest and most prestigious competition\, celebrating creative excellence in all forms of advertising. This year’s event will take place on February 26th at the fabulous Fox Theatre\, a theatre that symbolizes Atlanta’s dual legacy of traditional productions and emerging media. \nWith over 300 professionals expected to attend\, this awards program is the perfect stage to spotlight your brand while supporting Atlanta’s creative heartbeat.
URL:https://atlantaadclub.org/event/2024-american-advertising-awards-atlanta/
LOCATION:The Fabulous Fox Theatre\, 660 Peachtree Street NE\, Atlanta\, GA\, 30308\, United States
ATTACH;FMTTYPE=image/png:https://atlantaadclub.org/wp-content/uploads/2025/01/2025_Save-The-Date.png
END:VEVENT
END:VCALENDAR