BEGIN:VCALENDAR
VERSION:2.0
PRODID:-//AAF Atlanta - ECPv5.16.2.1//NONSGML v1.0//EN
CALSCALE:GREGORIAN
METHOD:PUBLISH
X-WR-CALNAME:AAF Atlanta
X-ORIGINAL-URL:https://atlantaadclub.org
X-WR-CALDESC:Events for AAF Atlanta
BEGIN:VTIMEZONE
TZID:UTC
BEGIN:STANDARD
TZOFFSETFROM:+0000
TZOFFSETTO:+0000
TZNAME:UTC
DTSTART:20240101T000000
END:STANDARD
END:VTIMEZONE
BEGIN:VEVENT
DTSTART;TZID=UTC:20241022T180000
DTEND;TZID=UTC:20241022T200000
DTSTAMP:20260424T043053
CREATED:20240903T172818Z
LAST-MODIFIED:20241009T162947Z
UID:3287-1729620000-1729627200@atlantaadclub.org
SUMMARY:2024 Tales from the Client Side
DESCRIPTION:NEW DATE: Tales from the Client Side is rescheduled for Tuesday\, October 22nd from 6-8pm.  Any previously purchased tickets will apply to the new date. \nJoin the Atlanta Ad Club & GroundTruth for the return of “Tales from the Client Side”! \nYou’ll hear from some of ATL’s top marketing and creative directors about the OTHER side of advertising. Complimentary drinks and apps will be provided. This is always a popular event\, so grab your tickets early! REGISTER HERE!
URL:https://atlantaadclub.org/event/2024-tales-from-the-client-side/
LOCATION:Chemistry\, 1045 West Marietta Street\, Atlanta\, GA\, 30318\, United States
END:VEVENT
END:VCALENDAR