BEGIN:VCALENDAR
VERSION:2.0
PRODID:-//AAF Atlanta - ECPv5.16.2.1//NONSGML v1.0//EN
CALSCALE:GREGORIAN
METHOD:PUBLISH
X-WR-CALNAME:AAF Atlanta
X-ORIGINAL-URL:https://atlantaadclub.org
X-WR-CALDESC:Events for AAF Atlanta
BEGIN:VTIMEZONE
TZID:UTC
BEGIN:STANDARD
TZOFFSETFROM:+0000
TZOFFSETTO:+0000
TZNAME:UTC
DTSTART:20190101T000000
END:STANDARD
END:VTIMEZONE
BEGIN:VEVENT
DTSTART;TZID=UTC:20190523T183000
DTEND;TZID=UTC:20190523T213000
DTSTAMP:20260425T002949
CREATED:20190510T144124Z
LAST-MODIFIED:20230814T031438Z
UID:738-1558636200-1558647000@atlantaadclub.org
SUMMARY:A Conversation on Resilience with Wendy Clark
DESCRIPTION:The Resilient Agency Mindset\nJoin us for a conversation with Wendy Clark\, Global CEO of DDB Worldwide\, about the power and importance of resilience in an industry that loves to judge.
URL:https://atlantaadclub.org/event/a-conversation-on-resilience-with-wendy-clark/
LOCATION:WITH/agency\, 3525 Piedmont Rd NE\, Building 5\, Suite #210\, Atlanta\, GA\, 30305\, United States
ATTACH;FMTTYPE=image/jpeg:https://atlantaadclub.org/wp-content/uploads/2019/05/WendyClark_AAC_email3.jpg
END:VEVENT
END:VCALENDAR