BEGIN:VCALENDAR
VERSION:2.0
PRODID:-//AAF Atlanta - ECPv5.16.2.1//NONSGML v1.0//EN
CALSCALE:GREGORIAN
METHOD:PUBLISH
X-WR-CALNAME:AAF Atlanta
X-ORIGINAL-URL:https://atlantaadclub.org
X-WR-CALDESC:Events for AAF Atlanta
BEGIN:VTIMEZONE
TZID:UTC
BEGIN:STANDARD
TZOFFSETFROM:+0000
TZOFFSETTO:+0000
TZNAME:UTC
DTSTART:20250101T000000
END:STANDARD
END:VTIMEZONE
BEGIN:VEVENT
DTSTART;TZID=UTC:20251028T113000
DTEND;TZID=UTC:20251028T133000
DTSTAMP:20260424T011114
CREATED:20250929T153823Z
LAST-MODIFIED:20250929T153823Z
UID:3645-1761651000-1761658200@atlantaadclub.org
SUMMARY:AAF Atlanta Inclusion Workshop Lunch: When They Won’t Change\, We Build Our Own: Inclusion\, Innovation\, & Impact presented by Majority
DESCRIPTION:For October\, we’re having our 4th AAF Atlanta Inclusion Workshop Lunch this year\, after having our dynamic three-part Spring 2025 event series dedicated to advancing diversity and inclusion in advertising. This event is bringing together industry leaders\, innovators\, and advocates to share insights and strategies for shaping a more inclusive and impactful advertising landscape. Our October 28th Workshop will focus on When They Won’t Change\, We Build Our Own: Inclusion\, Innovation\, & Impact presented by Majority. \nIn today’s marketing and media landscape\, companies that resist embracing diversity\, equity\, and inclusion (DEI) within their workforce risk not just public criticism but also losing top talent. Many professionals are leaving these environments to build their own ventures or join more progressive organizations. This workshop will explore the consequences of exclusion\, celebrate the entrepreneurial spirit birthed from it\, and offer strategies for cultivating inclusive cultures that foster innovation and retention.
URL:https://atlantaadclub.org/event/aaf-atlanta-inclusion-workshop-lunch-when-they-wont-change-we-build-our-own-inclusion-innovation-impact-presented-by-majority/
LOCATION:Majority Agency\, 505 North Angier Avenue Northeast\, Atlanta\, GA\, 30308\, United States
END:VEVENT
END:VCALENDAR