BEGIN:VCALENDAR
VERSION:2.0
PRODID:-//AAF Atlanta - ECPv5.16.2.1//NONSGML v1.0//EN
CALSCALE:GREGORIAN
METHOD:PUBLISH
X-WR-CALNAME:AAF Atlanta
X-ORIGINAL-URL:https://atlantaadclub.org
X-WR-CALDESC:Events for AAF Atlanta
BEGIN:VTIMEZONE
TZID:UTC
BEGIN:STANDARD
TZOFFSETFROM:+0000
TZOFFSETTO:+0000
TZNAME:UTC
DTSTART:20250101T000000
END:STANDARD
END:VTIMEZONE
BEGIN:VEVENT
DTSTART;TZID=UTC:20250829T180000
DTEND;TZID=UTC:20250829T200000
DTSTAMP:20260424T010516
CREATED:20250801T154012Z
LAST-MODIFIED:20250813T132817Z
UID:3632-1756490400-1756497600@atlantaadclub.org
SUMMARY:AAF Atlanta Presents: Laugh Your Ads Off
DESCRIPTION:Get ready\, Atlanta! AAF Atlanta is thrilled to announce that Laugh Your Ads Off is back and better than ever! Join us for a night where industry professionals roast the business we all love. \nThe lineup is stacked with talent from the local ATL scene\, ready to take the stage. We’ll kick things off with cocktails and networking\, followed by the main event. Don’t miss the industry party of the year. \nSpace is limited for this signature event so grab your tickets early!
URL:https://atlantaadclub.org/event/aaf-atlanta-presents-laugh-your-ads-off/
LOCATION:Tombras\, 505 N Angier Ave NE\, 9th Floor\, Atlanta\, GA\, 30308\, United States
END:VEVENT
END:VCALENDAR