BEGIN:VCALENDAR
VERSION:2.0
PRODID:-//AAF Atlanta - ECPv5.16.2.1//NONSGML v1.0//EN
CALSCALE:GREGORIAN
METHOD:PUBLISH
X-WR-CALNAME:AAF Atlanta
X-ORIGINAL-URL:https://atlantaadclub.org
X-WR-CALDESC:Events for AAF Atlanta
BEGIN:VTIMEZONE
TZID:UTC
BEGIN:STANDARD
TZOFFSETFROM:+0000
TZOFFSETTO:+0000
TZNAME:UTC
DTSTART:20160101T000000
END:STANDARD
END:VTIMEZONE
BEGIN:VEVENT
DTSTART;TZID=UTC:20160818T180000
DTEND;TZID=UTC:20160818T200000
DTSTAMP:20260424T215947
CREATED:20181025T050949Z
LAST-MODIFIED:20181025T051042Z
UID:493-1471543200-1471550400@atlantaadclub.org
SUMMARY:Demystifying Social Media
DESCRIPTION:Social media experts from JWT\, Tumblr\, Twitter\, and more discuss tried-and-true social media musts and the latest in social innovations. Find out which platforms makes sense based on audience and unique social media uses to drive brand awareness.
URL:https://atlantaadclub.org/event/demystifying-social-media/
LOCATION:J. Walter Thompson\, 3630 Peachtree Road\, NE\, Suite 1100\, Atlanta\, GA\, 30326\, United States
END:VEVENT
END:VCALENDAR