BEGIN:VCALENDAR
VERSION:2.0
PRODID:-//AAF Atlanta - ECPv5.16.2.1//NONSGML v1.0//EN
CALSCALE:GREGORIAN
METHOD:PUBLISH
X-WR-CALNAME:AAF Atlanta
X-ORIGINAL-URL:https://atlantaadclub.org
X-WR-CALDESC:Events for AAF Atlanta
BEGIN:VTIMEZONE
TZID:UTC
BEGIN:STANDARD
TZOFFSETFROM:+0000
TZOFFSETTO:+0000
TZNAME:UTC
DTSTART:20180101T000000
END:STANDARD
END:VTIMEZONE
BEGIN:VEVENT
DTSTART;TZID=UTC:20180517T180000
DTEND;TZID=UTC:20180517T200000
DTSTAMP:20260422T171304
CREATED:20181025T042013Z
LAST-MODIFIED:20181025T080944Z
UID:467-1526580000-1526587200@atlantaadclub.org
SUMMARY:May Mixer
DESCRIPTION:Join us for an early evening of sun and fun with friends old and new. Our mixers are some of our most popular and well-attended events.
URL:https://atlantaadclub.org/event/may-mixer/
LOCATION:Company3\, 3399 Peachtree Drive NE\, #200\, Atlanta\, GA\, United States
ATTACH;FMTTYPE=image/gif:https://atlantaadclub.org/wp-content/uploads/2018/10/May-Mixer.gif
END:VEVENT
END:VCALENDAR