BEGIN:VCALENDAR
VERSION:2.0
PRODID:-//AAF Atlanta - ECPv5.16.2.1//NONSGML v1.0//EN
CALSCALE:GREGORIAN
METHOD:PUBLISH
X-WR-CALNAME:AAF Atlanta
X-ORIGINAL-URL:https://atlantaadclub.org
X-WR-CALDESC:Events for AAF Atlanta
BEGIN:VTIMEZONE
TZID:UTC
BEGIN:STANDARD
TZOFFSETFROM:+0000
TZOFFSETTO:+0000
TZNAME:UTC
DTSTART:20230101T000000
END:STANDARD
END:VTIMEZONE
BEGIN:VEVENT
DTSTART;TZID=UTC:20230215T180000
DTEND;TZID=UTC:20230215T203000
DTSTAMP:20260424T160514
CREATED:20230130T152345Z
LAST-MODIFIED:20230814T030332Z
UID:2830-1676484000-1676493000@atlantaadclub.org
SUMMARY:Super Bowl Rewind 2023
DESCRIPTION:Join us as some of the top creative minds in Atlanta review the good\, bad and ugly of this year’s Super Bowl commercials. This is one of our most popular events so tickets will go fast! \nPanel Moderator: Roberto Gomez | Chief Creative Officer\, Studio SP \nPanelists: \n\nJR Harris | Creative Director\, FKA\nMike Groenewald | Executive Creative Director\, Chemistry\nSarah O’Bryan | VP\, Group Creative Director\, Hothouse\n\nThanks to our host and sponsor FKA.
URL:https://atlantaadclub.org/event/super-bowl-rewind-2023/
LOCATION:Publicis Groupe\, 384 Northyards Blvd\, NW\, Suite 300\, Atlanta\, GA\, 30313\, United States
ATTACH;FMTTYPE=image/png:https://atlantaadclub.org/wp-content/uploads/2023/01/AACSuperBowlReviewWebsite.png
END:VEVENT
END:VCALENDAR