BEGIN:VCALENDAR
VERSION:2.0
PRODID:-//AAF Atlanta - ECPv5.16.2.1//NONSGML v1.0//EN
CALSCALE:GREGORIAN
METHOD:PUBLISH
X-WR-CALNAME:AAF Atlanta
X-ORIGINAL-URL:https://atlantaadclub.org
X-WR-CALDESC:Events for AAF Atlanta
BEGIN:VTIMEZONE
TZID:UTC
BEGIN:STANDARD
TZOFFSETFROM:+0000
TZOFFSETTO:+0000
TZNAME:UTC
DTSTART:20210101T000000
END:STANDARD
END:VTIMEZONE
BEGIN:VEVENT
DTSTART;TZID=UTC:20210219T100000
DTEND;TZID=UTC:20210219T120000
DTSTAMP:20260424T173617
CREATED:20210203T154343Z
LAST-MODIFIED:20230814T032711Z
UID:1711-1613728800-1613736000@atlantaadclub.org
SUMMARY:Virtual 2021 American Advertising Awards Show Atlanta
DESCRIPTION:SEE HERE FOR MORE INFO ON PAST AWARDS SHOWS \n  \nLet’s come together and toast what we created. Surrounded by our houseplant jungles and Brady Bunch Zoom grids — let’s celebrate the stuff we made. The stuff we made at home. The stuff we homemade. \nWhile the venue looks different from years past\, we are excited to recognize and celebrate the innate creativity of Atlanta’s advertising community. REGISTER HERE. \nDetails: \nWhen: Friday\, Feb. 19th from 10am to 12pm \nWhere: Your computer! We’ll be hosting via Zoom \nCost: For this year’s event\, you can purchase a ticket with a donation amount of your choice (minimum donation: just $1). \nSwag Boxes: These fun filled boxes are first come\, first served while supplies last! \nAll ticket sales will be donated to one of three Georgia-based nonprofit organizations. During the awards ceremony\, attendees will vote to select the recipient of ticket sales proceeds. \nThe organizations we selected are: \n\nAtlanta Beltline\n\n\nBlack Lives Matter Georgia\n\n\nHands on Atlanta\n\nPlease be kind and courteous and purchase a ticket for each participant so we can track attendance \n*Stay tuned for the Zoom link. We will email 24 hours in advance of the event to the email address used during registration.
URL:https://atlantaadclub.org/event/virtual-2021-american-advertising-awards-show-atlanta/
ATTACH;FMTTYPE=image/jpeg:https://atlantaadclub.org/wp-content/uploads/2021/02/ADDY-Image_EB.jpg
END:VEVENT
END:VCALENDAR